Package: escape Version: 1.8.0 Command: rm -rf escape.buildbin-libdir && mkdir escape.buildbin-libdir && F:\biocbuild\bbs-3.16-bioc\R\bin\R.exe CMD INSTALL --build --library=escape.buildbin-libdir escape_1.8.0.tar.gz StartedAt: 2023-04-11 07:58:05 -0400 (Tue, 11 Apr 2023) EndedAt: 2023-04-11 07:58:47 -0400 (Tue, 11 Apr 2023) EllapsedTime: 42.3 seconds RetCode: 0 Status: OK PackageFile: escape_1.8.0.zip PackageFileSize: 728.6 KiB