Package: escape Version: 1.8.0 Command: /home/biocbuild/bbs-3.16-bioc/R/bin/R CMD INSTALL escape StartedAt: 2023-04-10 15:31:20 -0400 (Mon, 10 Apr 2023) EndedAt: 2023-04-10 15:32:08 -0400 (Mon, 10 Apr 2023) EllapsedTime: 48.2 seconds RetCode: 0 Status: OK