Package: epivizrChart Version: 1.20.0 Command: /Library/Frameworks/R.framework/Resources/bin/R CMD INSTALL epivizrChart StartedAt: 2023-04-10 15:35:24 -0400 (Mon, 10 Apr 2023) EndedAt: 2023-04-10 15:36:17 -0400 (Mon, 10 Apr 2023) EllapsedTime: 52.3 seconds RetCode: 0 Status: OK