Package: easyreporting Version: 1.9.0 Command: /Library/Frameworks/R.framework/Resources/bin/R CMD build --keep-empty-dirs --no-resave-data easyreporting StartedAt: 2022-07-06 20:30:36 -0400 (Wed, 06 Jul 2022) EndedAt: 2022-07-06 20:30:44 -0400 (Wed, 06 Jul 2022) EllapsedTime: 7.8 seconds RetCode: 0 Status: OK PackageFile: easyreporting_1.9.0.tar.gz PackageFileSize: 2.94 MiB