Package: easyreporting Version: 1.9.0 Command: rm -rf easyreporting.buildbin-libdir && mkdir easyreporting.buildbin-libdir && /Users/biocbuild/BBS/utils/build-universal.sh easyreporting_1.9.0.tar.gz /Library/Frameworks/R.framework/Resources/bin/R easyreporting.buildbin-libdir StartedAt: 2022-07-07 07:51:57 -0400 (Thu, 07 Jul 2022) EndedAt: 2022-07-07 07:52:07 -0400 (Thu, 07 Jul 2022) EllapsedTime: 9.9 seconds RetCode: 0 Status: OK PackageFile: easyreporting_1.9.0.tgz PackageFileSize: 3.097 MiB