Package: dyebias Version: 1.58.0 Command: chmod a+r dyebias -R && F:\biocbuild\bbs-3.16-bioc\R\bin\R.exe CMD build --keep-empty-dirs --no-resave-data dyebias StartedAt: 2023-04-10 18:20:36 -0400 (Mon, 10 Apr 2023) EndedAt: 2023-04-10 18:21:05 -0400 (Mon, 10 Apr 2023) EllapsedTime: 29.3 seconds RetCode: 0 Status: OK PackageFile: dyebias_1.58.0.tar.gz PackageFileSize: 2.499 MiB