Package: dks Version: 1.44.0 Command: /Library/Frameworks/R.framework/Resources/bin/R CMD build --keep-empty-dirs --no-resave-data dks StartedAt: 2023-04-10 16:24:22 -0400 (Mon, 10 Apr 2023) EndedAt: 2023-04-10 16:24:43 -0400 (Mon, 10 Apr 2023) EllapsedTime: 20.4 seconds RetCode: 0 Status: OK PackageFile: dks_1.44.0.tar.gz PackageFileSize: 600.5 KiB