Package: dks Version: 1.44.0 Command: rm -rf dks.buildbin-libdir && mkdir dks.buildbin-libdir && /Users/biocbuild/BBS/utils/build-universal.sh dks_1.44.0.tar.gz /Library/Frameworks/R.framework/Resources/bin/R dks.buildbin-libdir StartedAt: 2023-04-10 23:41:07 -0400 (Mon, 10 Apr 2023) EndedAt: 2023-04-10 23:41:10 -0400 (Mon, 10 Apr 2023) EllapsedTime: 3.4 seconds RetCode: 0 Status: OK PackageFile: dks_1.44.0.tgz PackageFileSize: 619.6 KiB