Package: diffGeneAnalysis Version: 1.80.0 Command: rm -rf diffGeneAnalysis.buildbin-libdir && mkdir diffGeneAnalysis.buildbin-libdir && /Users/biocbuild/BBS/utils/build-universal.sh diffGeneAnalysis_1.80.0.tar.gz /Library/Frameworks/R.framework/Resources/bin/R diffGeneAnalysis.buildbin-libdir StartedAt: 2023-04-10 23:40:47 -0400 (Mon, 10 Apr 2023) EndedAt: 2023-04-10 23:40:51 -0400 (Mon, 10 Apr 2023) EllapsedTime: 3.4 seconds RetCode: 0 Status: OK PackageFile: diffGeneAnalysis_1.80.0.tgz PackageFileSize: 249.5 KiB