Package: decoupleR Version: 2.4.0 Command: /Library/Frameworks/R.framework/Resources/bin/R CMD INSTALL decoupleR StartedAt: 2023-04-10 15:17:47 -0400 (Mon, 10 Apr 2023) EndedAt: 2023-04-10 15:17:57 -0400 (Mon, 10 Apr 2023) EllapsedTime: 10.5 seconds RetCode: 0 Status: OK