Package: dagLogo Version: 1.36.0 Command: rm -rf dagLogo.buildbin-libdir && mkdir dagLogo.buildbin-libdir && F:\biocbuild\bbs-3.16-bioc\R\bin\R.exe CMD INSTALL --build --library=dagLogo.buildbin-libdir dagLogo_1.36.0.tar.gz StartedAt: 2023-04-11 07:51:23 -0400 (Tue, 11 Apr 2023) EndedAt: 2023-04-11 07:52:22 -0400 (Tue, 11 Apr 2023) EllapsedTime: 58.5 seconds RetCode: 0 Status: OK PackageFile: dagLogo_1.36.0.zip PackageFileSize: 3.066 MiB