Package: daMA Version: 1.70.0 Command: rm -rf daMA.buildbin-libdir && mkdir daMA.buildbin-libdir && F:\biocbuild\bbs-3.16-bioc\R\bin\R.exe CMD INSTALL --build --library=daMA.buildbin-libdir daMA_1.70.0.tar.gz StartedAt: 2023-04-11 07:51:25 -0400 (Tue, 11 Apr 2023) EndedAt: 2023-04-11 07:51:38 -0400 (Tue, 11 Apr 2023) EllapsedTime: 13.6 seconds RetCode: 0 Status: OK PackageFile: daMA_1.70.0.zip PackageFileSize: 4.061 MiB