Package: cydar Version: 1.22.0 Command: chmod a+r cydar -R && F:\biocbuild\bbs-3.16-bioc\R\bin\R.exe CMD build --keep-empty-dirs --no-resave-data cydar StartedAt: 2023-04-10 18:02:37 -0400 (Mon, 10 Apr 2023) EndedAt: 2023-04-10 18:04:03 -0400 (Mon, 10 Apr 2023) EllapsedTime: 85.4 seconds RetCode: 0 Status: OK PackageFile: cydar_1.22.0.tar.gz PackageFileSize: 374.3 KiB