Package: csdR Version: 1.4.0 Command: F:\biocbuild\bbs-3.16-bioc\R\bin\R.exe CMD INSTALL csdR StartedAt: 2023-04-10 16:36:38 -0400 (Mon, 10 Apr 2023) EndedAt: 2023-04-10 16:37:22 -0400 (Mon, 10 Apr 2023) EllapsedTime: 44.2 seconds RetCode: 0 Status: OK