Package: csdR Version: 1.4.0 Command: rm -rf csdR.buildbin-libdir && mkdir csdR.buildbin-libdir && /Users/biocbuild/BBS/utils/build-universal.sh csdR_1.4.0.tar.gz /Library/Frameworks/R.framework/Resources/bin/R csdR.buildbin-libdir StartedAt: 2023-04-10 23:39:07 -0400 (Mon, 10 Apr 2023) EndedAt: 2023-04-10 23:39:54 -0400 (Mon, 10 Apr 2023) EllapsedTime: 47.1 seconds RetCode: 0 Status: OK PackageFile: csdR_1.4.0.tgz PackageFileSize: 1.486 MiB