Package: csdR Version: 1.3.0 Command: /Library/Frameworks/R.framework/Resources/bin/R CMD build --keep-empty-dirs --no-resave-data csdR StartedAt: 2022-07-06 19:50:20 -0400 (Wed, 06 Jul 2022) EndedAt: 2022-07-06 19:50:47 -0400 (Wed, 06 Jul 2022) EllapsedTime: 26.4 seconds RetCode: 1 Status: ERROR PackageFile: None PackageFileSize: NA