Package: crisprViz Version: 1.0.0 Command: F:\biocbuild\bbs-3.16-bioc\R\bin\R.exe CMD INSTALL crisprViz StartedAt: 2023-04-10 16:42:25 -0400 (Mon, 10 Apr 2023) EndedAt: 2023-04-10 16:43:27 -0400 (Mon, 10 Apr 2023) EllapsedTime: 62.1 seconds RetCode: 0 Status: OK