Package: crisprViz Version: 1.0.0 Command: F:\biocbuild\bbs-3.16-bioc\R\bin\R.exe CMD check --no-multiarch --install=check:crisprViz.install-out.txt --library=F:\biocbuild\bbs-3.16-bioc\R\library --no-vignettes --timings crisprViz_1.0.0.tar.gz StartedAt: 2023-04-11 00:27:26 -0400 (Tue, 11 Apr 2023) EndedAt: 2023-04-11 00:34:08 -0400 (Tue, 11 Apr 2023) EllapsedTime: 402.6 seconds RetCode: 0 Status: OK CheckDir: crisprViz.Rcheck Warnings: 0