Package: crisprViz Version: 1.0.0 Command: chmod a+r crisprViz -R && F:\biocbuild\bbs-3.16-bioc\R\bin\R.exe CMD build --keep-empty-dirs --no-resave-data crisprViz StartedAt: 2023-04-10 18:00:03 -0400 (Mon, 10 Apr 2023) EndedAt: 2023-04-10 18:02:48 -0400 (Mon, 10 Apr 2023) EllapsedTime: 165.2 seconds RetCode: 0 Status: OK PackageFile: crisprViz_1.0.0.tar.gz PackageFileSize: 697.5 KiB