Package: crisprViz Version: 1.0.0 Command: rm -rf crisprViz.buildbin-libdir && mkdir crisprViz.buildbin-libdir && /Users/biocbuild/BBS/utils/build-universal.sh crisprViz_1.0.0.tar.gz /Library/Frameworks/R.framework/Resources/bin/R crisprViz.buildbin-libdir StartedAt: 2023-04-10 23:38:59 -0400 (Mon, 10 Apr 2023) EndedAt: 2023-04-10 23:40:00 -0400 (Mon, 10 Apr 2023) EllapsedTime: 60.7 seconds RetCode: 0 Status: OK PackageFile: crisprViz_1.0.0.tgz PackageFileSize: 1.157 MiB