Package: cqn Version: 1.44.0 Command: F:\biocbuild\bbs-3.16-bioc\R\bin\R.exe CMD INSTALL cqn StartedAt: 2023-04-10 15:45:18 -0400 (Mon, 10 Apr 2023) EndedAt: 2023-04-10 15:45:28 -0400 (Mon, 10 Apr 2023) EllapsedTime: 9.6 seconds RetCode: 0 Status: OK