Package: countsimQC Version: 1.16.1 Command: rm -rf countsimQC.buildbin-libdir && mkdir countsimQC.buildbin-libdir && /Users/biocbuild/BBS/utils/build-universal.sh countsimQC_1.16.1.tar.gz /Library/Frameworks/R.framework/Resources/bin/R countsimQC.buildbin-libdir StartedAt: 2023-04-10 23:38:38 -0400 (Mon, 10 Apr 2023) EndedAt: 2023-04-10 23:39:15 -0400 (Mon, 10 Apr 2023) EllapsedTime: 37.4 seconds RetCode: 0 Status: OK PackageFile: countsimQC_1.16.1.tgz PackageFileSize: 490.4 KiB