Package: cosmosR Version: 1.6.0 Command: rm -rf cosmosR.buildbin-libdir && mkdir cosmosR.buildbin-libdir && F:\biocbuild\bbs-3.16-bioc\R\bin\R.exe CMD INSTALL --build --library=cosmosR.buildbin-libdir cosmosR_1.6.0.tar.gz StartedAt: 2023-04-11 07:49:44 -0400 (Tue, 11 Apr 2023) EndedAt: 2023-04-11 07:50:03 -0400 (Tue, 11 Apr 2023) EllapsedTime: 18.5 seconds RetCode: 0 Status: OK PackageFile: cosmosR_1.6.0.zip PackageFileSize: 3.422 MiB