Package: cosmiq Version: 1.32.0 Command: chmod a+r cosmiq -R && F:\biocbuild\bbs-3.16-bioc\R\bin\R.exe CMD build --keep-empty-dirs --no-resave-data cosmiq StartedAt: 2023-04-10 17:58:30 -0400 (Mon, 10 Apr 2023) EndedAt: 2023-04-10 18:00:51 -0400 (Mon, 10 Apr 2023) EllapsedTime: 141.1 seconds RetCode: 0 Status: OK PackageFile: cosmiq_1.32.0.tar.gz PackageFileSize: 541.3 KiB