Package: cosmiq Version: 1.32.0 Command: /home/biocbuild/bbs-3.16-bioc/R/bin/R CMD INSTALL cosmiq StartedAt: 2023-04-10 15:26:21 -0400 (Mon, 10 Apr 2023) EndedAt: 2023-04-10 15:27:00 -0400 (Mon, 10 Apr 2023) EllapsedTime: 39.0 seconds RetCode: 0 Status: OK