Package: cosmiq Version: 1.32.0 Command: /Library/Frameworks/R.framework/Resources/bin/R CMD build --keep-empty-dirs --no-resave-data cosmiq StartedAt: 2023-04-10 16:15:20 -0400 (Mon, 10 Apr 2023) EndedAt: 2023-04-10 16:17:16 -0400 (Mon, 10 Apr 2023) EllapsedTime: 116.5 seconds RetCode: 0 Status: OK PackageFile: cosmiq_1.32.0.tar.gz PackageFileSize: 540.1 KiB