Package: convert Version: 1.74.0 Command: /Library/Frameworks/R.framework/Resources/bin/R CMD check --install=check:convert.install-out.txt --library=/Library/Frameworks/R.framework/Resources/library --no-vignettes --timings convert_1.74.0.tar.gz StartedAt: 2023-04-10 19:35:01 -0400 (Mon, 10 Apr 2023) EndedAt: 2023-04-10 19:35:36 -0400 (Mon, 10 Apr 2023) EllapsedTime: 35.2 seconds RetCode: 0 Status: OK CheckDir: convert.Rcheck Warnings: 0