Package: convert Version: 1.73.0 Command: /Library/Frameworks/R.framework/Resources/bin/R CMD INSTALL convert StartedAt: 2022-07-10 15:31:12 -0400 (Sun, 10 Jul 2022) EndedAt: 2022-07-10 15:31:21 -0400 (Sun, 10 Jul 2022) EllapsedTime: 8.4 seconds RetCode: 0 Status: OK