Package: cogeqc Version: 1.2.1 Command: /Library/Frameworks/R.framework/Resources/bin/R CMD build --keep-empty-dirs --no-resave-data cogeqc StartedAt: 2023-04-10 16:12:18 -0400 (Mon, 10 Apr 2023) EndedAt: 2023-04-10 16:14:17 -0400 (Mon, 10 Apr 2023) EllapsedTime: 119.6 seconds RetCode: 0 Status: OK PackageFile: cogeqc_1.2.1.tar.gz PackageFileSize: 2.528 MiB