Package: cnvGSA Version: 1.42.0 Command: chmod a+r cnvGSA -R && F:\biocbuild\bbs-3.16-bioc\R\bin\R.exe CMD build --keep-empty-dirs --no-resave-data cnvGSA StartedAt: 2023-04-10 17:50:52 -0400 (Mon, 10 Apr 2023) EndedAt: 2023-04-10 17:51:12 -0400 (Mon, 10 Apr 2023) EllapsedTime: 20.0 seconds RetCode: 0 Status: OK PackageFile: cnvGSA_1.42.0.tar.gz PackageFileSize: 259.9 KiB