Package: cnvGSA Version: 1.41.0 Command: rm -rf cnvGSA.buildbin-libdir && mkdir cnvGSA.buildbin-libdir && /Users/biocbuild/BBS/utils/build-universal.sh cnvGSA_1.41.0.tar.gz /Library/Frameworks/R.framework/Resources/bin/R cnvGSA.buildbin-libdir StartedAt: 2022-07-07 07:42:44 -0400 (Thu, 07 Jul 2022) EndedAt: 2022-07-07 07:43:09 -0400 (Thu, 07 Jul 2022) EllapsedTime: 24.9 seconds RetCode: 0 Status: OK PackageFile: cnvGSA_1.41.0.tgz PackageFileSize: 429.1 KiB