Package: cisPath Version: 1.37.0 Command: /Library/Frameworks/R.framework/Resources/bin/R CMD build --keep-empty-dirs --no-resave-data cisPath StartedAt: 2022-07-06 19:30:35 -0400 (Wed, 06 Jul 2022) EndedAt: 2022-07-06 19:31:00 -0400 (Wed, 06 Jul 2022) EllapsedTime: 24.2 seconds RetCode: 0 Status: OK PackageFile: cisPath_1.37.0.tar.gz PackageFileSize: 1.032 MiB