Package: chromstaR Version: 1.24.0 Command: rm -rf chromstaR.buildbin-libdir && mkdir chromstaR.buildbin-libdir && /Users/biocbuild/BBS/utils/build-universal.sh chromstaR_1.24.0.tar.gz /Library/Frameworks/R.framework/Resources/bin/R chromstaR.buildbin-libdir StartedAt: 2023-04-10 23:36:52 -0400 (Mon, 10 Apr 2023) EndedAt: 2023-04-10 23:37:39 -0400 (Mon, 10 Apr 2023) EllapsedTime: 47.9 seconds RetCode: 0 Status: OK PackageFile: chromstaR_1.24.0.tgz PackageFileSize: 6.596 MiB