Package: chromDraw Version: 2.28.0 Command: /Library/Frameworks/R.framework/Resources/bin/R CMD INSTALL chromDraw StartedAt: 2023-04-10 15:10:49 -0400 (Mon, 10 Apr 2023) EndedAt: 2023-04-10 15:12:00 -0400 (Mon, 10 Apr 2023) EllapsedTime: 71.2 seconds RetCode: 0 Status: OK