Package: chromDraw Version: 2.28.0 Command: /Library/Frameworks/R.framework/Resources/bin/R CMD check --install=check:chromDraw.install-out.txt --library=/Library/Frameworks/R.framework/Resources/library --no-vignettes --timings chromDraw_2.28.0.tar.gz StartedAt: 2023-04-10 19:22:07 -0400 (Mon, 10 Apr 2023) EndedAt: 2023-04-10 19:23:16 -0400 (Mon, 10 Apr 2023) EllapsedTime: 69.5 seconds RetCode: 0 Status: WARNINGS CheckDir: chromDraw.Rcheck Warnings: 3