Package: chromDraw Version: 2.28.0 Command: rm -rf chromDraw.buildbin-libdir && mkdir chromDraw.buildbin-libdir && /Users/biocbuild/BBS/utils/build-universal.sh chromDraw_2.28.0.tar.gz /Library/Frameworks/R.framework/Resources/bin/R chromDraw.buildbin-libdir StartedAt: 2023-04-10 23:36:46 -0400 (Mon, 10 Apr 2023) EndedAt: 2023-04-10 23:37:56 -0400 (Mon, 10 Apr 2023) EllapsedTime: 69.6 seconds RetCode: 0 Status: OK PackageFile: chromDraw_2.28.0.tgz PackageFileSize: 1.212 MiB