Package: cghMCR Version: 1.56.0 Command: rm -rf cghMCR.buildbin-libdir && mkdir cghMCR.buildbin-libdir && /Users/biocbuild/BBS/utils/build-universal.sh cghMCR_1.56.0.tar.gz /Library/Frameworks/R.framework/Resources/bin/R cghMCR.buildbin-libdir StartedAt: 2023-04-10 23:36:20 -0400 (Mon, 10 Apr 2023) EndedAt: 2023-04-10 23:37:01 -0400 (Mon, 10 Apr 2023) EllapsedTime: 40.4 seconds RetCode: 0 Status: OK PackageFile: cghMCR_1.56.0.tgz PackageFileSize: 37.03 MiB