Package: ccfindR Version: 1.18.0 Command: /home/biocbuild/bbs-3.16-bioc/R/bin/R CMD check --install=check:ccfindR.install-out.txt --library=/home/biocbuild/bbs-3.16-bioc/R/site-library --timings ccfindR_1.18.0.tar.gz StartedAt: 2023-04-10 19:32:04 -0400 (Mon, 10 Apr 2023) EndedAt: 2023-04-10 19:37:54 -0400 (Mon, 10 Apr 2023) EllapsedTime: 350.0 seconds RetCode: 0 Status: OK CheckDir: ccfindR.Rcheck Warnings: 0