Package: cageminer Version: 1.4.0 Command: /home/biocbuild/bbs-3.16-bioc/R/bin/R CMD check --install=check:cageminer.install-out.txt --library=/home/biocbuild/bbs-3.16-bioc/R/site-library --timings cageminer_1.4.0.tar.gz StartedAt: 2023-04-10 19:28:43 -0400 (Mon, 10 Apr 2023) EndedAt: 2023-04-10 19:36:59 -0400 (Mon, 10 Apr 2023) EllapsedTime: 495.7 seconds RetCode: 0 Status: OK CheckDir: cageminer.Rcheck Warnings: 0