Package: cageminer Version: 1.4.0 Command: rm -rf cageminer.buildbin-libdir && mkdir cageminer.buildbin-libdir && /Users/biocbuild/BBS/utils/build-universal.sh cageminer_1.4.0.tar.gz /Library/Frameworks/R.framework/Resources/bin/R cageminer.buildbin-libdir StartedAt: 2023-04-10 23:35:13 -0400 (Mon, 10 Apr 2023) EndedAt: 2023-04-10 23:36:19 -0400 (Mon, 10 Apr 2023) EllapsedTime: 65.8 seconds RetCode: 0 Status: OK PackageFile: cageminer_1.4.0.tgz PackageFileSize: 1.223 MiB