Package: cTRAP Version: 1.16.0 Command: chmod a+r cTRAP -R && F:\biocbuild\bbs-3.16-bioc\R\bin\R.exe CMD build --keep-empty-dirs --no-resave-data cTRAP StartedAt: 2023-04-10 18:01:28 -0400 (Mon, 10 Apr 2023) EndedAt: 2023-04-10 18:08:48 -0400 (Mon, 10 Apr 2023) EllapsedTime: 440.3 seconds RetCode: 0 Status: OK PackageFile: cTRAP_1.16.0.tar.gz PackageFileSize: 3.985 MiB