Package: cTRAP Version: 1.16.0 Command: /home/biocbuild/bbs-3.16-bioc/R/bin/R CMD INSTALL cTRAP StartedAt: 2023-04-10 15:44:00 -0400 (Mon, 10 Apr 2023) EndedAt: 2023-04-10 15:44:43 -0400 (Mon, 10 Apr 2023) EllapsedTime: 43.8 seconds RetCode: 0 Status: OK