Package: branchpointer Version: 1.24.0 Command: /home/biocbuild/bbs-3.16-bioc/R/bin/R CMD build --keep-empty-dirs --no-resave-data branchpointer StartedAt: 2023-04-10 16:14:47 -0400 (Mon, 10 Apr 2023) EndedAt: 2023-04-10 16:16:05 -0400 (Mon, 10 Apr 2023) EllapsedTime: 78.3 seconds RetCode: 0 Status: OK PackageFile: branchpointer_1.24.0.tar.gz PackageFileSize: 4.782 MiB