Package: biodbNcbi Version: 1.2.0 Command: chmod a+r biodbNcbi -R && F:\biocbuild\bbs-3.16-bioc\R\bin\R.exe CMD build --keep-empty-dirs --no-resave-data biodbNcbi StartedAt: 2023-04-10 17:22:34 -0400 (Mon, 10 Apr 2023) EndedAt: 2023-04-10 17:23:22 -0400 (Mon, 10 Apr 2023) EllapsedTime: 47.6 seconds RetCode: 0 Status: OK PackageFile: biodbNcbi_1.2.0.tar.gz PackageFileSize: 719.6 KiB