Package: biodbNcbi Version: 1.2.0 Command: rm -rf biodbNcbi.buildbin-libdir && mkdir biodbNcbi.buildbin-libdir && F:\biocbuild\bbs-3.16-bioc\R\bin\R.exe CMD INSTALL --build --library=biodbNcbi.buildbin-libdir biodbNcbi_1.2.0.tar.gz StartedAt: 2023-04-11 07:38:06 -0400 (Tue, 11 Apr 2023) EndedAt: 2023-04-11 07:38:27 -0400 (Tue, 11 Apr 2023) EllapsedTime: 21.0 seconds RetCode: 0 Status: OK PackageFile: biodbNcbi_1.2.0.zip PackageFileSize: 1.105 MiB