Package: biodbLipidmaps Version: 1.4.1 Command: /Library/Frameworks/R.framework/Resources/bin/R CMD build --keep-empty-dirs --no-resave-data biodbLipidmaps StartedAt: 2023-04-10 15:56:59 -0400 (Mon, 10 Apr 2023) EndedAt: 2023-04-10 15:57:36 -0400 (Mon, 10 Apr 2023) EllapsedTime: 37.4 seconds RetCode: 0 Status: OK PackageFile: biodbLipidmaps_1.4.1.tar.gz PackageFileSize: 289.7 KiB