Package: biodbLipidmaps Version: 1.4.1 Command: rm -rf biodbLipidmaps.buildbin-libdir && mkdir biodbLipidmaps.buildbin-libdir && /Users/biocbuild/BBS/utils/build-universal.sh biodbLipidmaps_1.4.1.tar.gz /Library/Frameworks/R.framework/Resources/bin/R biodbLipidmaps.buildbin-libdir StartedAt: 2023-04-10 23:34:14 -0400 (Mon, 10 Apr 2023) EndedAt: 2023-04-10 23:34:24 -0400 (Mon, 10 Apr 2023) EllapsedTime: 10.3 seconds RetCode: 0 Status: OK PackageFile: biodbLipidmaps_1.4.1.tgz PackageFileSize: 369.8 KiB