Package: biocViews Version: 1.66.3 Command: /home/biocbuild/bbs-3.16-bioc/R/bin/R CMD INSTALL biocViews StartedAt: 2023-04-10 15:11:59 -0400 (Mon, 10 Apr 2023) EndedAt: 2023-04-10 15:12:16 -0400 (Mon, 10 Apr 2023) EllapsedTime: 16.7 seconds RetCode: 0 Status: OK