Package: biocViews Version: 1.66.3 Command: /Library/Frameworks/R.framework/Resources/bin/R CMD build --keep-empty-dirs --no-resave-data biocViews StartedAt: 2023-04-10 15:56:43 -0400 (Mon, 10 Apr 2023) EndedAt: 2023-04-10 15:56:59 -0400 (Mon, 10 Apr 2023) EllapsedTime: 15.9 seconds RetCode: 0 Status: OK PackageFile: biocViews_1.66.3.tar.gz PackageFileSize: 506.1 KiB