Package: biocViews Version: 1.65.0 Command: rm -rf biocViews.buildbin-libdir && mkdir biocViews.buildbin-libdir && /Users/biocbuild/BBS/utils/build-universal.sh biocViews_1.65.0.tar.gz /Library/Frameworks/R.framework/Resources/bin/R biocViews.buildbin-libdir StartedAt: 2022-07-07 07:34:39 -0400 (Thu, 07 Jul 2022) EndedAt: 2022-07-07 07:34:57 -0400 (Thu, 07 Jul 2022) EllapsedTime: 18.7 seconds RetCode: 0 Status: OK PackageFile: biocViews_1.65.0.tgz PackageFileSize: 846.1 KiB